BEGIN:VCALENDAR
VERSION:2.0
PRODID:-//NADI Kg Durian Tawar - ECPv6.15.20//NONSGML v1.0//EN
CALSCALE:GREGORIAN
METHOD:PUBLISH
X-WR-CALNAME:NADI Kg Durian Tawar
X-ORIGINAL-URL:https://duriantawar.nadi.my
X-WR-CALDESC:Events for NADI Kg Durian Tawar
REFRESH-INTERVAL;VALUE=DURATION:PT1H
X-Robots-Tag:noindex
X-PUBLISHED-TTL:PT1H
BEGIN:VTIMEZONE
TZID:Asia/Kuala_Lumpur
BEGIN:STANDARD
TZOFFSETFROM:+0800
TZOFFSETTO:+0800
TZNAME:+08
DTSTART:20240101T000000
END:STANDARD
END:VTIMEZONE
BEGIN:VEVENT
DTSTART;TZID=Asia/Kuala_Lumpur:20250517T100000
DTEND;TZID=Asia/Kuala_Lumpur:20250517T110000
DTSTAMP:20260424T153740
CREATED:20250514T063852Z
LAST-MODIFIED:20250514T063852Z
UID:4324-1747476000-1747479600@duriantawar.nadi.my
SUMMARY:WEBINAR KEMPEN INTERNET SELAMAT - DETEKTIF INTERNET
DESCRIPTION:
URL:https://duriantawar.nadi.my/event/webinar-kempen-internet-selamat-detektif-internet/
END:VEVENT
BEGIN:VEVENT
DTSTART;TZID=Asia/Kuala_Lumpur:20250517T110000
DTEND;TZID=Asia/Kuala_Lumpur:20250517T120000
DTSTAMP:20260424T153740
CREATED:20250514T063933Z
LAST-MODIFIED:20250514T063933Z
UID:4326-1747479600-1747483200@duriantawar.nadi.my
SUMMARY:Webinar Kesedaran Data Peribadi
DESCRIPTION:
URL:https://duriantawar.nadi.my/event/webinar-kesedaran-data-peribadi/
END:VEVENT
BEGIN:VEVENT
DTSTART;TZID=Asia/Kuala_Lumpur:20250517T140000
DTEND;TZID=Asia/Kuala_Lumpur:20250517T153000
DTSTAMP:20260424T153740
CREATED:20250514T063525Z
LAST-MODIFIED:20250514T063525Z
UID:4320-1747490400-1747495800@duriantawar.nadi.my
SUMMARY:LIFELONG LEARNING:NADI X CYBERSECURITY
DESCRIPTION:
URL:https://duriantawar.nadi.my/event/lifelong-learningnadi-x-cybersecurity/
END:VEVENT
BEGIN:VEVENT
DTSTART;TZID=Asia/Kuala_Lumpur:20250524T143000
DTEND;TZID=Asia/Kuala_Lumpur:20250524T163000
DTSTAMP:20260424T153740
CREATED:20250514T063634Z
LAST-MODIFIED:20250514T063634Z
UID:4322-1748097000-1748104200@duriantawar.nadi.my
SUMMARY:Webinar Berkala Bahasa Melayu Edisi Kedua
DESCRIPTION:
URL:https://duriantawar.nadi.my/event/webinar-berkala-bahasa-melayu-edisi-kedua/
END:VEVENT
END:VCALENDAR