BEGIN:VCALENDAR
VERSION:2.0
PRODID:-//NADI Kg Durian Tawar - ECPv6.15.20//NONSGML v1.0//EN
CALSCALE:GREGORIAN
METHOD:PUBLISH
X-WR-CALNAME:NADI Kg Durian Tawar
X-ORIGINAL-URL:https://duriantawar.nadi.my
X-WR-CALDESC:Events for NADI Kg Durian Tawar
REFRESH-INTERVAL;VALUE=DURATION:PT1H
X-Robots-Tag:noindex
X-PUBLISHED-TTL:PT1H
BEGIN:VTIMEZONE
TZID:Asia/Kuala_Lumpur
BEGIN:STANDARD
TZOFFSETFROM:+0800
TZOFFSETTO:+0800
TZNAME:+08
DTSTART:20240101T000000
END:STANDARD
END:VTIMEZONE
BEGIN:VEVENT
DTSTART;TZID=Asia/Kuala_Lumpur:20250321T090000
DTEND;TZID=Asia/Kuala_Lumpur:20250323T170000
DTSTAMP:20260425T182404
CREATED:20250323T075928Z
LAST-MODIFIED:20250323T075928Z
UID:4150-1742547600-1742749200@duriantawar.nadi.my
SUMMARY:Program One Touch NADI (Special Program)
DESCRIPTION:Program webinar secara Online dan live: \nKidpreneur\, NADIpreneur\, Wellbeing\, Dilea\, Mahir\, Cybersecurity
URL:https://duriantawar.nadi.my/event/program-one-touch-nadi-special-program/
END:VEVENT
BEGIN:VEVENT
DTSTART;TZID=Asia/Kuala_Lumpur:20250322T080000
DTEND;TZID=Asia/Kuala_Lumpur:20250322T170000
DTSTAMP:20260425T182404
CREATED:20250323T080040Z
LAST-MODIFIED:20250323T080040Z
UID:4152-1742630400-1742662800@duriantawar.nadi.my
SUMMARY:Bazar Raya Mini NADI Durian Tawar dan NADI seluruh Malaysia
DESCRIPTION:
URL:https://duriantawar.nadi.my/event/bazar-raya-mini-nadi-durian-tawar-dan-nadi-seluruh-malaysia/
END:VEVENT
END:VCALENDAR