BEGIN:VCALENDAR
VERSION:2.0
PRODID:-//NADI Kg Durian Tawar - ECPv6.15.20//NONSGML v1.0//EN
CALSCALE:GREGORIAN
METHOD:PUBLISH
X-WR-CALNAME:NADI Kg Durian Tawar
X-ORIGINAL-URL:https://duriantawar.nadi.my
X-WR-CALDESC:Events for NADI Kg Durian Tawar
REFRESH-INTERVAL;VALUE=DURATION:PT1H
X-Robots-Tag:noindex
X-PUBLISHED-TTL:PT1H
BEGIN:VTIMEZONE
TZID:UTC
BEGIN:STANDARD
TZOFFSETFROM:+0000
TZOFFSETTO:+0000
TZNAME:UTC
DTSTART:20230101T000000
END:STANDARD
END:VTIMEZONE
BEGIN:VTIMEZONE
TZID:UTC
BEGIN:STANDARD
TZOFFSETFROM:+0000
TZOFFSETTO:+0000
TZNAME:UTC
DTSTART:20230101T000000
END:STANDARD
END:VTIMEZONE
BEGIN:VEVENT
DTSTART;TZID=UTC:20241206T100000
DTEND;TZID=UTC:20241206T120000
DTSTAMP:20260426T052921
CREATED:20241206T012509Z
LAST-MODIFIED:20241206T012509Z
UID:3768-1733479200-1733486400@duriantawar.nadi.my
SUMMARY:TAKLIMAT NADI SAFE AND SHIELD SK FELDA KEPAYANG
DESCRIPTION:
URL:https://duriantawar.nadi.my/event/taklimat-nadi-safe-and-shield-sk-felda-kepayang/
CATEGORIES:DEFAULT
END:VEVENT
BEGIN:VEVENT
DTSTART;TZID=UTC:20241206T100000
DTEND;TZID=UTC:20241206T120000
DTSTAMP:20260426T052921
CREATED:20241206T012509Z
LAST-MODIFIED:20241206T012509Z
UID:3769-1733479200-1733486400@duriantawar.nadi.my
SUMMARY:TAKLIMAT NADI SAFE AND SHIELD SK FELDA KEPAYANG
DESCRIPTION:
URL:https://duriantawar.nadi.my/event/taklimat-nadi-safe-and-shield-sk-felda-kepayang-2/
CATEGORIES:DEFAULT
END:VEVENT
BEGIN:VEVENT
DTSTART;TZID=UTC:20241210T110000
DTEND;TZID=UTC:20241210T130000
DTSTAMP:20260426T052921
CREATED:20241206T012657Z
LAST-MODIFIED:20241206T012657Z
UID:3770-1733828400-1733835600@duriantawar.nadi.my
SUMMARY:TAKLIMAT NADI SAFE AND SHIELD SK GUAI
DESCRIPTION:
URL:https://duriantawar.nadi.my/event/taklimat-nadi-safe-and-shield-sk-guai/
CATEGORIES:DEFAULT
END:VEVENT
BEGIN:VEVENT
DTSTART;TZID=UTC:20241212T110000
DTEND;TZID=UTC:20241212T130000
DTSTAMP:20260426T052921
CREATED:20241211T195314Z
LAST-MODIFIED:20241211T195314Z
UID:3772-1734001200-1734008400@duriantawar.nadi.my
SUMMARY:Takilmat NADI Safe & Shield SK Ladang Menteri
DESCRIPTION:Mengadakan Taklimat Five Pillars dan NADI Safe & Shield
URL:https://duriantawar.nadi.my/event/takilmat-nadi-safe-shield-sk-ladang-menteri/
LOCATION:SK Ladang Menteri Bera
END:VEVENT
END:VCALENDAR