BEGIN:VCALENDAR
VERSION:2.0
PRODID:-//NADI Kg Durian Tawar - ECPv6.15.20//NONSGML v1.0//EN
CALSCALE:GREGORIAN
METHOD:PUBLISH
X-WR-CALNAME:NADI Kg Durian Tawar
X-ORIGINAL-URL:https://duriantawar.nadi.my
X-WR-CALDESC:Events for NADI Kg Durian Tawar
REFRESH-INTERVAL;VALUE=DURATION:PT1H
X-Robots-Tag:noindex
X-PUBLISHED-TTL:PT1H
BEGIN:VTIMEZONE
TZID:Asia/Kuala_Lumpur
BEGIN:STANDARD
TZOFFSETFROM:+0800
TZOFFSETTO:+0800
TZNAME:+08
DTSTART:20250101T000000
END:STANDARD
END:VTIMEZONE
BEGIN:VEVENT
DTSTART;TZID=Asia/Kuala_Lumpur:20260103T143000
DTEND;TZID=Asia/Kuala_Lumpur:20260103T163000
DTSTAMP:20260420T082706
CREATED:20260103T033305Z
LAST-MODIFIED:20260103T033305Z
UID:5084-1767450600-1767457800@duriantawar.nadi.my
SUMMARY:WEBINAR BERKALA SAINS EDISI 1
DESCRIPTION:
URL:https://duriantawar.nadi.my/event/webinar-berkala-sains-edisi-1/
END:VEVENT
BEGIN:VEVENT
DTSTART;TZID=Asia/Kuala_Lumpur:20260110T100000
DTEND;TZID=Asia/Kuala_Lumpur:20260110T233000
DTSTAMP:20260420T082706
CREATED:20260103T033551Z
LAST-MODIFIED:20260103T033551Z
UID:5086-1768039200-1768087800@duriantawar.nadi.my
SUMMARY:TAKLIMAT MAHIR INTAKE 3
DESCRIPTION:
URL:https://duriantawar.nadi.my/event/taklimat-mahir-intake-3/
END:VEVENT
BEGIN:VEVENT
DTSTART;TZID=Asia/Kuala_Lumpur:20260110T143000
DTEND;TZID=Asia/Kuala_Lumpur:20260110T163000
DTSTAMP:20260420T082706
CREATED:20260108T085531Z
LAST-MODIFIED:20260108T085531Z
UID:5190-1768055400-1768062600@duriantawar.nadi.my
SUMMARY:WEBINAR BERKALA SAINS EDISI 2- DAYA DAN GERAKAN
DESCRIPTION:
URL:https://duriantawar.nadi.my/event/webinar-berkala-sains-edisi-2-daya-dan-gerakan/
END:VEVENT
BEGIN:VEVENT
DTSTART;TZID=Asia/Kuala_Lumpur:20260115T150000
DTEND;TZID=Asia/Kuala_Lumpur:20260115T163000
DTSTAMP:20260420T082706
CREATED:20260108T085729Z
LAST-MODIFIED:20260108T085729Z
UID:5192-1768489200-1768494600@duriantawar.nadi.my
SUMMARY:SIBERSEKURITI ANCAMAN SIBER DALAM DUNIA DIGITAL
DESCRIPTION:
URL:https://duriantawar.nadi.my/event/sibersekuriti-ancaman-siber-dalam-dunia-digital/
END:VEVENT
BEGIN:VEVENT
DTSTART;TZID=Asia/Kuala_Lumpur:20260116T080000
DTEND;TZID=Asia/Kuala_Lumpur:20260118T180000
DTSTAMP:20260420T082706
CREATED:20260117T071400Z
LAST-MODIFIED:20260117T071400Z
UID:5195-1768550400-1768759200@duriantawar.nadi.my
SUMMARY:E-SUKAN Modul 2 Etika dan Sikap
DESCRIPTION:
URL:https://duriantawar.nadi.my/event/e-sukan-modul-2-etika-dan-sikap/
END:VEVENT
BEGIN:VEVENT
DTSTART;TZID=Asia/Kuala_Lumpur:20260120T100000
DTEND;TZID=Asia/Kuala_Lumpur:20260205T110000
DTSTAMP:20260420T082706
CREATED:20260117T071545Z
LAST-MODIFIED:20260117T071545Z
UID:5197-1768903200-1770289200@duriantawar.nadi.my
SUMMARY:E-kelas- Webinar Pemasaran Digital
DESCRIPTION:
URL:https://duriantawar.nadi.my/event/e-kelas-webinar-pemasaran-digital/
END:VEVENT
BEGIN:VEVENT
DTSTART;TZID=Asia/Kuala_Lumpur:20260212T090000
DTEND;TZID=Asia/Kuala_Lumpur:20260212T220000
DTSTAMP:20260420T082706
CREATED:20260211T083225Z
LAST-MODIFIED:20260211T083225Z
UID:5209-1770886800-1770933600@duriantawar.nadi.my
SUMMARY:OPEN TUITION SAINS DAN PENGAJIAN AM TINGKATAN 1-6
DESCRIPTION:
URL:https://duriantawar.nadi.my/event/open-tuition-sains-dan-pengajian-am-tingkatan-1-6/
END:VEVENT
BEGIN:VEVENT
DTSTART;TZID=Asia/Kuala_Lumpur:20260212T150000
DTEND;TZID=Asia/Kuala_Lumpur:20260212T163000
DTSTAMP:20260420T082706
CREATED:20260211T083118Z
LAST-MODIFIED:20260211T083118Z
UID:5207-1770908400-1770913800@duriantawar.nadi.my
SUMMARY:CYBERSECURITY: CARA KENAL PASTI FILE BERBENTUK VIRUS
DESCRIPTION:
URL:https://duriantawar.nadi.my/event/cybersecurity-cara-kenal-pasti-file-berbentuk-virus/
END:VEVENT
BEGIN:VEVENT
DTSTART;TZID=Asia/Kuala_Lumpur:20260310T113000
DTEND;TZID=Asia/Kuala_Lumpur:20260310T123000
DTSTAMP:20260420T082706
CREATED:20260306T090835Z
LAST-MODIFIED:20260306T090835Z
UID:5255-1773142200-1773145800@duriantawar.nadi.my
SUMMARY:MAHIR JAHIT -ALTERATION: BESAR JADI MUAT\, KECIL JADI SELESA
DESCRIPTION:
URL:https://duriantawar.nadi.my/event/mahir-jahit-alteration-besar-jadi-muat-kecil-jadi-selesa/
END:VEVENT
BEGIN:VEVENT
DTSTART;TZID=Asia/Kuala_Lumpur:20260311T113000
DTEND;TZID=Asia/Kuala_Lumpur:20260311T123000
DTSTAMP:20260420T082706
CREATED:20260306T090951Z
LAST-MODIFIED:20260306T090951Z
UID:5257-1773228600-1773232200@duriantawar.nadi.my
SUMMARY:MAHIR FOTO- DARI SMARTPHONE KE SPOTLIGHT: JOURNEY MOBILEGRAPHY NUAR YUSLI
DESCRIPTION:
URL:https://duriantawar.nadi.my/event/mahir-foto-dari-smartphone-ke-spotlight-journey-mobilegraphy-nuar-yusli/
END:VEVENT
BEGIN:VEVENT
DTSTART;TZID=Asia/Kuala_Lumpur:20260312T113000
DTEND;TZID=Asia/Kuala_Lumpur:20260312T123000
DTSTAMP:20260420T082706
CREATED:20260306T091049Z
LAST-MODIFIED:20260306T091049Z
UID:5259-1773315000-1773318600@duriantawar.nadi.my
SUMMARY:MAHIR MASAK EDISI AIDILFITRI: AYAM RENDANG DAN CHOCOLATE CUP FRUITCAKE
DESCRIPTION:
URL:https://duriantawar.nadi.my/event/mahir-masak-edisi-aidilfitri-ayam-rendang-dan-chocolate-cup-fruitcake/
END:VEVENT
BEGIN:VEVENT
DTSTART;TZID=Asia/Kuala_Lumpur:20260403T080000
DTEND;TZID=Asia/Kuala_Lumpur:20260405T170000
DTSTAMP:20260420T082706
CREATED:20260404T071406Z
LAST-MODIFIED:20260404T071406Z
UID:5304-1775203200-1775408400@duriantawar.nadi.my
SUMMARY:E- SUKAN KOMUNIKASI DALAM PASUKAN
DESCRIPTION:
URL:https://duriantawar.nadi.my/event/e-sukan-komunikasi-dalam-pasukan/
END:VEVENT
BEGIN:VEVENT
DTSTART;TZID=Asia/Kuala_Lumpur:20260409T150000
DTEND;TZID=Asia/Kuala_Lumpur:20260409T163000
DTSTAMP:20260420T082706
CREATED:20260404T071747Z
LAST-MODIFIED:20260404T071747Z
UID:5306-1775746800-1775752200@duriantawar.nadi.my
SUMMARY:SIBERSEKURITI: CARA MENJAGA KESELAMATAN CCTV DAN WIFI RUMAH DARI DIGODAM
DESCRIPTION:
URL:https://duriantawar.nadi.my/event/sibersekuriti-cara-menjaga-keselamatan-cctv-dan-wifi-rumah-dari-digodam/
END:VEVENT
BEGIN:VEVENT
DTSTART;TZID=Asia/Kuala_Lumpur:20260411T143000
DTEND;TZID=Asia/Kuala_Lumpur:20260411T163000
DTSTAMP:20260420T082706
CREATED:20260408T064511Z
LAST-MODIFIED:20260408T064511Z
UID:5323-1775917800-1775925000@duriantawar.nadi.my
SUMMARY:WEBINAR BERKALA BAHASA MELAYU TINGKATAN 1-3 : TEKNIK PENULISAN KARANGAN
DESCRIPTION:
URL:https://duriantawar.nadi.my/event/webinar-berkala-bahasa-melayu-tingkatan-1-3-teknik-penulisan-karangan/
END:VEVENT
END:VCALENDAR