BEGIN:VCALENDAR
VERSION:2.0
PRODID:-//NADI Kg Durian Tawar - ECPv6.15.20//NONSGML v1.0//EN
CALSCALE:GREGORIAN
METHOD:PUBLISH
X-WR-CALNAME:NADI Kg Durian Tawar
X-ORIGINAL-URL:https://duriantawar.nadi.my
X-WR-CALDESC:Events for NADI Kg Durian Tawar
REFRESH-INTERVAL;VALUE=DURATION:PT1H
X-Robots-Tag:noindex
X-PUBLISHED-TTL:PT1H
BEGIN:VTIMEZONE
TZID:Asia/Kuala_Lumpur
BEGIN:STANDARD
TZOFFSETFROM:+0800
TZOFFSETTO:+0800
TZNAME:+08
DTSTART:20240101T000000
END:STANDARD
END:VTIMEZONE
BEGIN:VEVENT
DTSTART;TZID=Asia/Kuala_Lumpur:20251115T100000
DTEND;TZID=Asia/Kuala_Lumpur:20251115T230000
DTSTAMP:20260421T014141
CREATED:20251106T020317Z
LAST-MODIFIED:20251106T020317Z
UID:4927-1763200800-1763247600@duriantawar.nadi.my
SUMMARY:KEMPEN INTERNET SELAMAT- JEJAK DIGITAL JEJAKMU DI ALAM MAYA KEKAL SELAMANYA
DESCRIPTION:
URL:https://duriantawar.nadi.my/event/kempen-internet-selamat-jejak-digital-jejakmu-di-alam-maya-kekal-selamanya/
END:VEVENT
END:VCALENDAR