BEGIN:VCALENDAR
VERSION:2.0
PRODID:-//NADI Kg Durian Tawar - ECPv6.15.20//NONSGML v1.0//EN
CALSCALE:GREGORIAN
METHOD:PUBLISH
X-WR-CALNAME:NADI Kg Durian Tawar
X-ORIGINAL-URL:https://duriantawar.nadi.my
X-WR-CALDESC:Events for NADI Kg Durian Tawar
REFRESH-INTERVAL;VALUE=DURATION:PT1H
X-Robots-Tag:noindex
X-PUBLISHED-TTL:PT1H
BEGIN:VTIMEZONE
TZID:Asia/Kuala_Lumpur
BEGIN:STANDARD
TZOFFSETFROM:+0800
TZOFFSETTO:+0800
TZNAME:+08
DTSTART:20240101T000000
END:STANDARD
END:VTIMEZONE
BEGIN:VEVENT
DTSTART;TZID=Asia/Kuala_Lumpur:20251108T100000
DTEND;TZID=Asia/Kuala_Lumpur:20251108T120000
DTSTAMP:20260420T234555
CREATED:20251106T020140Z
LAST-MODIFIED:20251106T020140Z
UID:4925-1762596000-1762603200@duriantawar.nadi.my
SUMMARY:BENGKEL MAHIR SUMO ROBOT DAN IOT INOVASI SESI 4
DESCRIPTION:
URL:https://duriantawar.nadi.my/event/bengkel-mahir-sumo-robot-dan-iot-inovasi-sesi-4/
END:VEVENT
END:VCALENDAR