BEGIN:VCALENDAR
VERSION:2.0
PRODID:-//NADI Kg Durian Tawar - ECPv6.15.20//NONSGML v1.0//EN
CALSCALE:GREGORIAN
METHOD:PUBLISH
X-WR-CALNAME:NADI Kg Durian Tawar
X-ORIGINAL-URL:https://duriantawar.nadi.my
X-WR-CALDESC:Events for NADI Kg Durian Tawar
REFRESH-INTERVAL;VALUE=DURATION:PT1H
X-Robots-Tag:noindex
X-PUBLISHED-TTL:PT1H
BEGIN:VTIMEZONE
TZID:Asia/Kuala_Lumpur
BEGIN:STANDARD
TZOFFSETFROM:+0800
TZOFFSETTO:+0800
TZNAME:+08
DTSTART:20240101T000000
END:STANDARD
END:VTIMEZONE
BEGIN:VEVENT
DTSTART;TZID=Asia/Kuala_Lumpur:20251004T143000
DTEND;TZID=Asia/Kuala_Lumpur:20251004T163000
DTSTAMP:20260422T091905
CREATED:20251001T095314Z
LAST-MODIFIED:20251001T095314Z
UID:4834-1759588200-1759595400@duriantawar.nadi.my
SUMMARY:WEBINAR BERKALA BAHASA INGGERIS EDISI 5 TINGKATAN 1-5
DESCRIPTION:
URL:https://duriantawar.nadi.my/event/webinar-berkala-bahasa-inggeris-edisi-5-tingkatan-1-5/
END:VEVENT
END:VCALENDAR