BEGIN:VCALENDAR
VERSION:2.0
PRODID:-//NADI Kg Durian Tawar - ECPv6.15.20//NONSGML v1.0//EN
CALSCALE:GREGORIAN
METHOD:PUBLISH
X-WR-CALNAME:NADI Kg Durian Tawar
X-ORIGINAL-URL:https://duriantawar.nadi.my
X-WR-CALDESC:Events for NADI Kg Durian Tawar
REFRESH-INTERVAL;VALUE=DURATION:PT1H
X-Robots-Tag:noindex
X-PUBLISHED-TTL:PT1H
BEGIN:VTIMEZONE
TZID:Asia/Kuala_Lumpur
BEGIN:STANDARD
TZOFFSETFROM:+0800
TZOFFSETTO:+0800
TZNAME:+08
DTSTART:20240101T000000
END:STANDARD
END:VTIMEZONE
BEGIN:VEVENT
DTSTART;TZID=Asia/Kuala_Lumpur:20250613T153000
DTEND;TZID=Asia/Kuala_Lumpur:20250613T170000
DTSTAMP:20260420T004147
CREATED:20250608T012843Z
LAST-MODIFIED:20250608T012843Z
UID:4357-1749828600-1749834000@duriantawar.nadi.my
SUMMARY:WEBINAR NADI x CYBERSECURITY
DESCRIPTION:
URL:https://duriantawar.nadi.my/event/webinar-nadi-x-cybersecurity/
END:VEVENT
END:VCALENDAR