BEGIN:VCALENDAR
VERSION:2.0
PRODID:-//NADI Kg Durian Tawar - ECPv6.15.20//NONSGML v1.0//EN
CALSCALE:GREGORIAN
METHOD:PUBLISH
X-WR-CALNAME:NADI Kg Durian Tawar
X-ORIGINAL-URL:https://duriantawar.nadi.my
X-WR-CALDESC:Events for NADI Kg Durian Tawar
REFRESH-INTERVAL;VALUE=DURATION:PT1H
X-Robots-Tag:noindex
X-PUBLISHED-TTL:PT1H
BEGIN:VTIMEZONE
TZID:Asia/Kuala_Lumpur
BEGIN:STANDARD
TZOFFSETFROM:+0800
TZOFFSETTO:+0800
TZNAME:+08
DTSTART:20240101T000000
END:STANDARD
END:VTIMEZONE
BEGIN:VEVENT
DTSTART;TZID=Asia/Kuala_Lumpur:20250610T100000
DTEND;TZID=Asia/Kuala_Lumpur:20250610T110000
DTSTAMP:20260422T100608
CREATED:20250608T013026Z
LAST-MODIFIED:20250608T013026Z
UID:4359-1749549600-1749553200@duriantawar.nadi.my
SUMMARY:ENGLISH PROCIENCY
DESCRIPTION:
URL:https://duriantawar.nadi.my/event/english-prociency/
END:VEVENT
BEGIN:VEVENT
DTSTART;TZID=Asia/Kuala_Lumpur:20250610T100000
DTEND;TZID=Asia/Kuala_Lumpur:20250610T110000
DTSTAMP:20260422T100608
CREATED:20250608T013120Z
LAST-MODIFIED:20250608T013120Z
UID:4361-1749549600-1749553200@duriantawar.nadi.my
SUMMARY:E KELAS MODULE 1&2
DESCRIPTION:
URL:https://duriantawar.nadi.my/event/e-kelas-module-12/
END:VEVENT
END:VCALENDAR